BEGIN:VCALENDAR
VERSION:2.0
PRODID:-//Accountant in Orem &amp; Salt Lake City, UT | Squire &amp; Company, PC - ECPv6.15.20//NONSGML v1.0//EN
CALSCALE:GREGORIAN
METHOD:PUBLISH
X-WR-CALNAME:Accountant in Orem &amp; Salt Lake City, UT | Squire &amp; Company, PC
X-ORIGINAL-URL:https://www.squire.com
X-WR-CALDESC:Events for Accountant in Orem &amp; Salt Lake City, UT | Squire &amp; Company, PC
REFRESH-INTERVAL;VALUE=DURATION:PT1H
X-Robots-Tag:noindex
X-PUBLISHED-TTL:PT1H
BEGIN:VTIMEZONE
TZID:America/Denver
BEGIN:DAYLIGHT
TZOFFSETFROM:-0700
TZOFFSETTO:-0600
TZNAME:MDT
DTSTART:20190310T090000
END:DAYLIGHT
BEGIN:STANDARD
TZOFFSETFROM:-0600
TZOFFSETTO:-0700
TZNAME:MST
DTSTART:20191103T080000
END:STANDARD
BEGIN:DAYLIGHT
TZOFFSETFROM:-0700
TZOFFSETTO:-0600
TZNAME:MDT
DTSTART:20200308T090000
END:DAYLIGHT
BEGIN:STANDARD
TZOFFSETFROM:-0600
TZOFFSETTO:-0700
TZNAME:MST
DTSTART:20201101T080000
END:STANDARD
BEGIN:DAYLIGHT
TZOFFSETFROM:-0700
TZOFFSETTO:-0600
TZNAME:MDT
DTSTART:20210314T090000
END:DAYLIGHT
BEGIN:STANDARD
TZOFFSETFROM:-0600
TZOFFSETTO:-0700
TZNAME:MST
DTSTART:20211107T080000
END:STANDARD
END:VTIMEZONE
BEGIN:VTIMEZONE
TZID:UTC
BEGIN:STANDARD
TZOFFSETFROM:+0000
TZOFFSETTO:+0000
TZNAME:UTC
DTSTART:20190101T000000
END:STANDARD
END:VTIMEZONE
BEGIN:VEVENT
DTSTART;TZID=America/Denver:20201105T110000
DTEND;TZID=America/Denver:20201105T114500
DTSTAMP:20260424T200835
CREATED:20201027T014818Z
LAST-MODIFIED:20201027T020704Z
UID:13057-1604574000-1604576700@www.squire.com
SUMMARY:Tax Laws: The impacts to businesses and individuals in our current and future environments
DESCRIPTION:With the top two contenders having such differing plans\, this election year has truly heightened awareness of tax policies (both current and potential future). Being proactive in looking at tax policies can really help businesses and individuals manage their tax situations. Join Squire to review basic tax planning for both businesses and individuals and see how you can potentially impact your tax scenario. \n  \nREGISTER HERE
URL:https://www.squire.com/event/tax-laws-impacts-businesses-individuals-current-future-environments/
LOCATION:Webinar\, You will receive a link via email after registration
CATEGORIES:Tax
ATTACH;FMTTYPE=image/png:https://www.squire.com/wp-content/uploads/2020/10/tax-law-webinar.png
ORGANIZER;CN="Sarah Campbell":MAILTO:sarahc@squire.com
END:VEVENT
BEGIN:VEVENT
DTSTART;TZID=America/Denver:20200623T110000
DTEND;TZID=America/Denver:20200623T120000
DTSTAMP:20260424T200835
CREATED:20200618T010801Z
LAST-MODIFIED:20200618T015550Z
UID:12345-1592910000-1592913600@www.squire.com
SUMMARY:PPP Loan Forgiveness Application and Updates
DESCRIPTION:On June 16th\, the Treasury and SBA released changes to the PPP Loan Forgiveness Application after changes to the program were made by the PPP Flexibility Act (PPPFA). Additionally\, they have released updates to the interim rules regarding parts of the loan forgiveness calculations. Perhaps the most exciting development was the introduction of a Loan Forgiveness Application EZ Form.  \nJoin Squire Partners Megan Bronson\, Brandon Allfrey\, and Squire Business Advisory Marc Andrus as they go through this new application and other important updates with PPP Forgiveness. \nREGISTER HERE
URL:https://www.squire.com/event/ppp-loan-forgiveness-application-updates/
LOCATION:Webinar\, You will receive a link via email after registration
CATEGORIES:Advisory & Business,COVID-19 Impact,Tax
ATTACH;FMTTYPE=image/png:https://www.squire.com/wp-content/uploads/2020/06/Copy-of-PPP-Legislative-update-1.png
ORGANIZER;CN="Sarah Campbell":MAILTO:sarahc@squire.com
END:VEVENT
BEGIN:VEVENT
DTSTART;TZID=America/Denver:20200609T110000
DTEND;TZID=America/Denver:20200609T120000
DTSTAMP:20260424T200835
CREATED:20200608T230238Z
LAST-MODIFIED:20200608T230238Z
UID:12328-1591700400-1591704000@www.squire.com
SUMMARY:Webinar | Paycheck Protection Program Economic Stimulus Legislative Update
DESCRIPTION:Join us as we go over the recent legislative changes to the Paycheck Protection Program as well as some updates on other lending programs. \nPresented by Squire Partners Shane Edwards\, Megan Bronson\, Brandon Allfrey\, and Business Advisory manager Marc Andrus. \nREGISTER HERE
URL:https://www.squire.com/event/webinar-paycheck-protection-program-economic-stimulus-legislative-update/
LOCATION:Webinar\, You will receive a link via email after registration
CATEGORIES:Advisory & Business,COVID-19 Impact,Tax
ATTACH;FMTTYPE=image/png:https://www.squire.com/wp-content/uploads/2020/06/PPP-Legislative-update.png
ORGANIZER;CN="Sarah Campbell":MAILTO:sarahc@squire.com
END:VEVENT
BEGIN:VEVENT
DTSTART;TZID=America/Denver:20200602T110000
DTEND;TZID=America/Denver:20200602T120000
DTSTAMP:20260424T200835
CREATED:20200522T161328Z
LAST-MODIFIED:20200526T014826Z
UID:12272-1591095600-1591099200@www.squire.com
SUMMARY:Paycheck Protection Program | Deep Dive Into Forgiveness
DESCRIPTION:Join us for a deep dive into the PPP Forgiveness Application Form and updates from the SBA. Presenters Shane Edwards\, Megan Bronson and Marc Adrus will also be weighing in on scenarios and questions submitted by the audience members. \nShane is Squire Office Managing Partner of our Salt Lake location\, Megan is a Squire Advisory Partner\, and Marc is a Squire Small Business Advisor. \nREGISTER HERE
URL:https://www.squire.com/event/paycheck-protection-program-deep-dive-forgiveness/
LOCATION:Webinar\, You will receive a link via email after registration
CATEGORIES:COVID-19 Impact
ATTACH;FMTTYPE=image/png:https://www.squire.com/wp-content/uploads/2020/05/Annotation-2020-05-22-100733.png
ORGANIZER;CN="Sarah Campbell":MAILTO:sarahc@squire.com
END:VEVENT
BEGIN:VEVENT
DTSTART;TZID=UTC:20200519T120000
DTEND;TZID=UTC:20200519T130000
DTSTAMP:20260424T200835
CREATED:20200207T071833Z
LAST-MODIFIED:20200513T185742Z
UID:10393-1589889600-1589893200@www.squire.com
SUMMARY:Understanding Social Security (with a side of COVID-19 Economic Outlook!)
DESCRIPTION:Learn how to maximize the amount of Social Security income you receive in retirement & gain some insight into the COVID-19 economic outlook. \nPresented by Nathan Larsen\, Squire Partner\, Squire Wealth Advisors Representative\, and PFS. \nSocial Security is one of the most valuable and least understood benefits. Come and learn more about how to maximize the amount of Social Security income you receive during retirement. This seminar will provide you with needed information to help you understand the system\, coordinate spousal and survivor benefits\, minimize taxes\, and maximize your benefits. See how doing some planning now can help you get the most out of your Social Security benefits. \nAs a bonus to this webinar\, Nathan Larsen will also be discussing the economic outlook and stock market volatility during the COVID-19 pandemic. \nREGISTER HERE
URL:https://www.squire.com/event/social-security-5-19-20/
LOCATION:Webinar\, You will receive a link via email after registration
CATEGORIES:COVID-19 Impact,Wealth Management
ATTACH;FMTTYPE=image/jpeg:https://www.squire.com/wp-content/uploads/2020/02/Social-Security-Red-Writing-896x375-1.jpeg
ORGANIZER;CN="Teresa Staker":MAILTO:teresas@squire.com
END:VEVENT
BEGIN:VEVENT
DTSTART;TZID=America/Denver:20200512T130000
DTEND;TZID=America/Denver:20200512T140000
DTSTAMP:20260424T200835
CREATED:20200507T012554Z
LAST-MODIFIED:20200508T182315Z
UID:12212-1589288400-1589292000@www.squire.com
SUMMARY:The "How To's" of Getting Back to Business and Applying the FFCRA
DESCRIPTION:Presented by Squire Advisory Partner Tim Larsen and Squire HR Director Tawny Rodriguez . \nTopics of discussion include: \n\nHiring\, Rehiring\, Onboarding\, and Payroll Credits for FMLA.\nHR considerations that should be taken as you hire and rehire employees.\nHow to handle previously furloughed employees.\nHow to track and account for the different payroll tax credits and payroll tax deferrals available (FFCRA).\n\nREGISTER HERE
URL:https://www.squire.com/event/tos-getting-back-business-applying-ffcra/
LOCATION:Webinar\, You will receive a link via email after registration
CATEGORIES:Advisory & Business,COVID-19 Impact
ATTACH;FMTTYPE=image/png:https://www.squire.com/wp-content/uploads/2020/05/EVENTBRITE-SIZE-1.png
ORGANIZER;CN="Sarah Campbell":MAILTO:sarahc@squire.com
END:VEVENT
BEGIN:VEVENT
DTSTART;TZID=America/Denver:20200505T110000
DTEND;TZID=America/Denver:20200505T120000
DTSTAMP:20260424T200835
CREATED:20200430T233506Z
LAST-MODIFIED:20200430T233506Z
UID:12194-1588676400-1588680000@www.squire.com
SUMMARY:Planning to Return | Preparing Offices and Staff to Return to Work
DESCRIPTION:The path to business recovery continues forward as the economy begins to reopen. While much uncertainty remains around the timeline for reentering workplaces\, how to return to work is at the forefront for most businesses. Presented with Utah Valley Chamber of Commerce\, this webinar we will discuss best practices for safely reopening business and restoring consumer confidence. \nREGISTER HERE
URL:https://www.squire.com/event/planning-return-preparing-offices-staff-return-work/
LOCATION:Webinar\, You will receive a link via email after registration
CATEGORIES:Advisory & Business,COVID-19 Impact
ATTACH;FMTTYPE=image/png:https://www.squire.com/wp-content/uploads/2020/04/RETURNING-TO-WORK-1.png
ORGANIZER;CN="Sarah Campbell":MAILTO:sarahc@squire.com
END:VEVENT
BEGIN:VEVENT
DTSTART;TZID=America/Denver:20200428T110000
DTEND;TZID=America/Denver:20200428T120000
DTSTAMP:20260424T200835
CREATED:20200423T003600Z
LAST-MODIFIED:20200423T003722Z
UID:12176-1588071600-1588075200@www.squire.com
SUMMARY:Now we have an additional $320 billion of PPP........what is the best path to loan forgiveness?
DESCRIPTION:The Senate on Tuesday evening passed the $484 billion bill by a voice vote\, sending it to the House for approval expected Thursday. President Trump said on Twitter he supported the legislation.  At the core of the agreement is $320 billion more for the Paycheck Protection Program\, with $60 billion set aside for small\, midsize\, and community lenders.  The Economic Injury Disaster Loan fund\, aimed at quickly delivering a mix of grants and loans\, gets $60 billion in the legislation.  This webinar will focus on the final details of this new funding legislation\, and also discuss PPP Loan Forgiveness.\n\nREGISTER HERE
URL:https://www.squire.com/event/now-additional-320-billion-ppp-best-path-loan-forgiveness/
LOCATION:Webinar\, You will receive a link via email after registration
CATEGORIES:Advisory & Business,COVID-19 Impact
ATTACH;FMTTYPE=image/png:https://www.squire.com/wp-content/uploads/2020/04/PPP-web.png
ORGANIZER;CN="Sarah Campbell":MAILTO:sarahc@squire.com
END:VEVENT
BEGIN:VEVENT
DTSTART;TZID=America/Denver:20200421T110000
DTEND;TZID=America/Denver:20200421T120000
DTSTAMP:20260424T200835
CREATED:20200416T005421Z
LAST-MODIFIED:20200416T135017Z
UID:12124-1587466800-1587470400@www.squire.com
SUMMARY:What does Sales and Use Tax Compliance Look Like Due to COVID-19?
DESCRIPTION:This is a joint presentation with Sovos Vice President of Regulatory Analysis & Design\, Charles Maniace. \nMany businesses have transformed themselves to survive and thrive in response to the COVID-19 pandemic. Companies with only a minimal online presence have ramped up their e-commerce channel as a means of continuing to serve their customers. Other organizations have stepped up and added new products and services as a means of meeting an urgent global need. While tax compliance may not necessarily be your first thought right now\, it can never be far from your mind if you are responsible for keeping your company safe from audit exposure. In this webinar we will discuss:  \n\nWhat we are (and are not) seeing in terms of state and local government responses to the pandemic\nWhat sellers should be thinking about right now in terms of keeping compliant\nWhat resources are available to understand what’s happening with respect to sales tax filing and remittance requirements right now\n\nREGISTER HERE
URL:https://www.squire.com/event/sales-use-tax-compliance-look-like-due-covid-19/
LOCATION:Webinar\, You will receive a link via email after registration
CATEGORIES:Advisory & Business,COVID-19 Impact
ATTACH;FMTTYPE=image/png:https://www.squire.com/wp-content/uploads/2020/04/Sales-tax-with-Sovos.png
ORGANIZER;CN="Sarah Campbell":MAILTO:sarahc@squire.com
END:VEVENT
BEGIN:VEVENT
DTSTART;TZID=America/Denver:20200414T110000
DTEND;TZID=America/Denver:20200414T120000
DTSTAMP:20260424T200835
CREATED:20200402T040019Z
LAST-MODIFIED:20200402T040129Z
UID:12061-1586862000-1586865600@www.squire.com
SUMMARY:CARES Act | What You Need to Know About Major Relief Provisions
DESCRIPTION:On Friday\, March 27\, 2020\, the Coronavirus Aid\, Relief\, and Economic Security (CARES) Act was signed into law. This $2 trillion emergency relief package is intended to assist individuals and businesses during the ongoing Coronavirus pandemic and accompanying economic crisis.  In this webinar\, we will be focusing on the unemployment\, recovery rebates\, retirement plan provisions\, and student loans provisions of the CARES Act. \nPresented by Nathan Larsen\, CPA \nREGISTER HERE
URL:https://www.squire.com/event/cares-act-need-know-major-relief-provisions/
LOCATION:Webinar\, You will receive a link via email after registration
CATEGORIES:COVID-19 Impact
ATTACH;FMTTYPE=image/png:https://www.squire.com/wp-content/uploads/2020/04/Copy-of-FFCRA-1.png
ORGANIZER;CN="Meredith Benns":MAILTO:meredithb@squire.com
END:VEVENT
BEGIN:VEVENT
DTSTART;TZID=UTC:20200407T110000
DTEND;TZID=UTC:20200407T120000
DTSTAMP:20260424T200835
CREATED:20200329T062626Z
LAST-MODIFIED:20200331T155353Z
UID:10762-1586257200-1586260800@www.squire.com
SUMMARY:The Coronavirus Aid\, Relief\, and Economic Security Act (the CARES Act) and Your Business
DESCRIPTION:*OUR WEBSITE TICKETING IS HAVING A SMALL GLITCH – PLEASE CLICK HERE TO REGISTER INSTEAD*\n  \nIn this webinar we will be covering: \n\nThe Paycheck Protection Program (PPP)\nThe Economic Injury Disaster Loan (EIDL)\nThe $10\,000 EIDL Grant\n\n 
URL:https://www.squire.com/event/coronavirus-aid-relief-economic-security-act-cares-act-business/
LOCATION:Webinar\, You will receive a link via email after registration
CATEGORIES:Advisory & Business,COVID-19 Impact
ATTACH;FMTTYPE=image/png:https://www.squire.com/wp-content/uploads/2020/03/Copy-of-FFCRA.png
ORGANIZER;CN="Meredith Benns":MAILTO:meredithb@squire.com
END:VEVENT
BEGIN:VEVENT
DTSTART;TZID=UTC:20200331T110000
DTEND;TZID=UTC:20200331T120000
DTSTAMP:20260424T200835
CREATED:20200328T022011Z
LAST-MODIFIED:20200331T213812Z
UID:10718-1585652400-1585656000@www.squire.com
SUMMARY:Families First Coronavirus Response Act (FFCRA) and Your Business
DESCRIPTION:*OUR WEBSITE IS HAVING A SMALL GLITCH WITH REGISTRATION – PLEASE CLICK HERE TO REGISTER INSTEAD*\n\n\nWith so many changes and daily updates to rules and regulations around employer requirements and guidelines\, it’s easy to get lost. In this webinar\, we will tackle the Families First Coronavirus Response Act (FFCRA). We are working diligently to be your progressive source of information and provide you with the answers you need during this ever-changing time. We look forward to discussing what we know at this current time and how to navigate these developing requirements.\n\n\nJoin us for an upcoming webinar focused on: \nEmployer Requirements on the Families First Coronavirus Response Act (FFCRA) \n\nEmergency Paid Sick Leave Act\nEmergency Family and Medical Leave Expansion Act\nFAQ
URL:https://www.squire.com/event/ffcra/
LOCATION:Webinar\, You will receive a link via email after registration
CATEGORIES:Advisory & Business,COVID-19 Impact
ATTACH;FMTTYPE=image/png:https://www.squire.com/wp-content/uploads/2020/03/FFCRA.png
ORGANIZER;CN="Meredith Benns":MAILTO:meredithb@squire.com
END:VEVENT
END:VCALENDAR