BEGIN:VCALENDAR
VERSION:2.0
PRODID:-//Accountant in Orem &amp; Salt Lake City, UT | Squire &amp; Company, PC - ECPv6.15.19//NONSGML v1.0//EN
CALSCALE:GREGORIAN
METHOD:PUBLISH
X-WR-CALNAME:Accountant in Orem &amp; Salt Lake City, UT | Squire &amp; Company, PC
X-ORIGINAL-URL:https://www.squire.com
X-WR-CALDESC:Events for Accountant in Orem &amp; Salt Lake City, UT | Squire &amp; Company, PC
REFRESH-INTERVAL;VALUE=DURATION:PT1H
X-Robots-Tag:noindex
X-PUBLISHED-TTL:PT1H
BEGIN:VTIMEZONE
TZID:America/Denver
BEGIN:DAYLIGHT
TZOFFSETFROM:-0700
TZOFFSETTO:-0600
TZNAME:MDT
DTSTART:20240310T090000
END:DAYLIGHT
BEGIN:STANDARD
TZOFFSETFROM:-0600
TZOFFSETTO:-0700
TZNAME:MST
DTSTART:20241103T080000
END:STANDARD
BEGIN:DAYLIGHT
TZOFFSETFROM:-0700
TZOFFSETTO:-0600
TZNAME:MDT
DTSTART:20250309T090000
END:DAYLIGHT
BEGIN:STANDARD
TZOFFSETFROM:-0600
TZOFFSETTO:-0700
TZNAME:MST
DTSTART:20251102T080000
END:STANDARD
BEGIN:DAYLIGHT
TZOFFSETFROM:-0700
TZOFFSETTO:-0600
TZNAME:MDT
DTSTART:20260308T090000
END:DAYLIGHT
BEGIN:STANDARD
TZOFFSETFROM:-0600
TZOFFSETTO:-0700
TZNAME:MST
DTSTART:20261101T080000
END:STANDARD
END:VTIMEZONE
BEGIN:VEVENT
DTSTART;TZID=America/Denver:20250722T100000
DTEND;TZID=America/Denver:20250722T120000
DTSTAMP:20260421T044022
CREATED:20250709T230300Z
LAST-MODIFIED:20250722T153929Z
UID:17861-1753178400-1753185600@www.squire.com
SUMMARY:Business & International Tax Seminar: Navigating the One Big Beautiful Bill
DESCRIPTION:Join Squire’s tax professionals for a focused seminar on the recently passed One Big Beautiful Bill. The new bill brings sweeping changes to business and international tax rules. Understanding the implications is critical for maintaining compliance\, managing risk\, and identifying new planning opportunities. Our team will break it down for you\, tell you what’s changed\, what it means\, and how to prepare. \nYou’ll gain insight on: \n\nCorporate tax rate and deduction changes\nImpact on S-corps\, partnerships\, and LLCs\nRevised bonus depreciation and Section 179\nInternational tax updates: GILTI\, BEAT\, foreign tax credits\nStrategic moves to consider before year-end\n\nSeminar Details:\nDate: Tuesday\, July 22Time: 10:00–11:00 AMLocation: Squire Orem Office (Virtual option available) \nIn-person space is limited—reserve your spot today!
URL:https://www.squire.com/event/business-international-tax-seminar-navigating-the-one-big-beautiful-bill/
LOCATION:Squire | Orem Location\, 1329 S 800 E\, Orem\, UT\, 84097\, United States
CATEGORIES:Advisory & Business,Tax
ORGANIZER;CN="Whitney Roseborough":MAILTO:whitneyr@squire.com
END:VEVENT
BEGIN:VEVENT
DTSTART;TZID=America/Denver:20250729T100000
DTEND;TZID=America/Denver:20250729T110000
DTSTAMP:20260421T044022
CREATED:20250709T230835Z
LAST-MODIFIED:20250717T181732Z
UID:17866-1753783200-1753786800@www.squire.com
SUMMARY:Individual Tax Planning Seminar: Understanding the One Big Beautiful Bill
DESCRIPTION:The One Big Beautiful Bill brings major shifts to personal tax planning\, from changes to the standard deduction to updates on child tax credits and retirement accounts. \nJoin Squire’s tax professionals for a focused seminar on what these changes mean for your financial future—and what you can do now to prepare. \nTopics include: \n\nNew income and deduction rules – Tip and Overtime Income\, State Tax Deductions\, etc.\nChanges to education\, retirement\, and child-related incentives and credits\nEstate\, gift\, and trust planning under the new rules\nProactive strategies to minimize your tax exposure\n\nSeminar Details:\nDate: Tuesday\, July 29Time: 10:00–11:00 AMLocation: Squire Orem Office (Virtual option available) \nIn-person space is limited—reserve your spot today!
URL:https://www.squire.com/event/personal-tax-planning-seminar-understanding-the-one-big-beautiful-bill/
LOCATION:Squire | Orem Location\, 1329 S 800 E\, Orem\, UT\, 84097\, United States
CATEGORIES:Tax
ORGANIZER;CN="Whitney Roseborough":MAILTO:whitneyr@squire.com
END:VEVENT
END:VCALENDAR