BEGIN:VCALENDAR
VERSION:2.0
PRODID:-//Accountant in Orem &amp; Salt Lake City, UT | Squire &amp; Company, PC - ECPv6.15.19//NONSGML v1.0//EN
CALSCALE:GREGORIAN
METHOD:PUBLISH
X-WR-CALNAME:Accountant in Orem &amp; Salt Lake City, UT | Squire &amp; Company, PC
X-ORIGINAL-URL:https://www.squire.com
X-WR-CALDESC:Events for Accountant in Orem &amp; Salt Lake City, UT | Squire &amp; Company, PC
REFRESH-INTERVAL;VALUE=DURATION:PT1H
X-Robots-Tag:noindex
X-PUBLISHED-TTL:PT1H
BEGIN:VTIMEZONE
TZID:America/Denver
BEGIN:DAYLIGHT
TZOFFSETFROM:-0700
TZOFFSETTO:-0600
TZNAME:MDT
DTSTART:20240310T090000
END:DAYLIGHT
BEGIN:STANDARD
TZOFFSETFROM:-0600
TZOFFSETTO:-0700
TZNAME:MST
DTSTART:20241103T080000
END:STANDARD
BEGIN:DAYLIGHT
TZOFFSETFROM:-0700
TZOFFSETTO:-0600
TZNAME:MDT
DTSTART:20250309T090000
END:DAYLIGHT
BEGIN:STANDARD
TZOFFSETFROM:-0600
TZOFFSETTO:-0700
TZNAME:MST
DTSTART:20251102T080000
END:STANDARD
BEGIN:DAYLIGHT
TZOFFSETFROM:-0700
TZOFFSETTO:-0600
TZNAME:MDT
DTSTART:20260308T090000
END:DAYLIGHT
BEGIN:STANDARD
TZOFFSETFROM:-0600
TZOFFSETTO:-0700
TZNAME:MST
DTSTART:20261101T080000
END:STANDARD
END:VTIMEZONE
BEGIN:VEVENT
DTSTART;TZID=America/Denver:20250221T120000
DTEND;TZID=America/Denver:20250221T130000
DTSTAMP:20260421T045218
CREATED:20250115T003008Z
LAST-MODIFIED:20250115T181705Z
UID:17347-1740139200-1740142800@www.squire.com
SUMMARY:Women in Accounting Career Exploration - Orem
DESCRIPTION:Your journey as a women in accounting or finance starts here. Join Squire’s Women Improving Professionally (WIP) Group for an insightful Lunch & Learn session designed for women accounting & finance students. Discover our inclusive work environment\, explore career opportunities for women\, participate in a Q&A session with some of our professionals\, and enjoy lunch on us. \nClick here to register. \n \n  \nReady to register?\nClick here to register. \n  \nIf interested in attending this event in Salt Lake\, UT visit the event page here.
URL:https://www.squire.com/event/women-accounting-career-exploration-orem/
LOCATION:Squire | Orem Location\, 1329 S 800 E\, Orem\, UT\, 84097\, United States
CATEGORIES:Recruiting
ORGANIZER;CN="Sierra Poppleton":MAILTO:sierrap@squire.com
END:VEVENT
END:VCALENDAR